BEGIN:VCALENDAR
VERSION:2.0
PRODID:-//Peachtree Church - ECPv6.15.19//NONSGML v1.0//EN
CALSCALE:GREGORIAN
METHOD:PUBLISH
X-WR-CALNAME:Peachtree Church
X-ORIGINAL-URL:https://peachtreechurch.com
X-WR-CALDESC:Events for Peachtree Church
REFRESH-INTERVAL;VALUE=DURATION:PT1H
X-Robots-Tag:noindex
X-PUBLISHED-TTL:PT1H
BEGIN:VTIMEZONE
TZID:America/New_York
BEGIN:DAYLIGHT
TZOFFSETFROM:-0500
TZOFFSETTO:-0400
TZNAME:EDT
DTSTART:20250309T070000
END:DAYLIGHT
BEGIN:STANDARD
TZOFFSETFROM:-0400
TZOFFSETTO:-0500
TZNAME:EST
DTSTART:20251102T060000
END:STANDARD
BEGIN:DAYLIGHT
TZOFFSETFROM:-0500
TZOFFSETTO:-0400
TZNAME:EDT
DTSTART:20260308T070000
END:DAYLIGHT
BEGIN:STANDARD
TZOFFSETFROM:-0400
TZOFFSETTO:-0500
TZNAME:EST
DTSTART:20261101T060000
END:STANDARD
BEGIN:DAYLIGHT
TZOFFSETFROM:-0500
TZOFFSETTO:-0400
TZNAME:EDT
DTSTART:20270314T070000
END:DAYLIGHT
BEGIN:STANDARD
TZOFFSETFROM:-0400
TZOFFSETTO:-0500
TZNAME:EST
DTSTART:20271107T060000
END:STANDARD
END:VTIMEZONE
BEGIN:VEVENT
DTSTART;TZID=America/New_York:20260518T183000
DTEND;TZID=America/New_York:20260518T183000
DTSTAMP:20260423T152638
CREATED:20251020T182358Z
LAST-MODIFIED:20260422T200616Z
UID:10002671-1779129000-1779129000@peachtreechurch.com
SUMMARY:The Table (Adult Singles —30s & 40s)
DESCRIPTION:The Table is a monthly dinner gathering designed to build community among adults in a similar life stage. Come enjoy a consistent space to slow down\, share a meal\, and form meaningful friendships with other singles.
URL:https://peachtreechurch.com/event/the-table-adult-singles-30s-40s-2/2026-05-18/
LOCATION:The Treehouse Restaurant and Pub\, 7 Kings Cir NE\, Atlanta\, GA\, 30305
CATEGORIES:Young Adults
ATTACH;FMTTYPE=image/jpeg:https://peachtreechurch.com/wp-content/uploads/2025/08/2025_Belong_30s-40s-Singles_The-Table_1920x1080_Website.jpg
END:VEVENT
BEGIN:VEVENT
DTSTART;TZID=America/New_York:20260615T183000
DTEND;TZID=America/New_York:20260615T183000
DTSTAMP:20260423T152638
CREATED:20251020T182358Z
LAST-MODIFIED:20260422T200616Z
UID:10002672-1781548200-1781548200@peachtreechurch.com
SUMMARY:The Table (Adult Singles —30s & 40s)
DESCRIPTION:The Table is a monthly dinner gathering designed to build community among adults in a similar life stage. Come enjoy a consistent space to slow down\, share a meal\, and form meaningful friendships with other singles.
URL:https://peachtreechurch.com/event/the-table-adult-singles-30s-40s-2/2026-06-15/
LOCATION:The Treehouse Restaurant and Pub\, 7 Kings Cir NE\, Atlanta\, GA\, 30305
CATEGORIES:Young Adults
ATTACH;FMTTYPE=image/jpeg:https://peachtreechurch.com/wp-content/uploads/2025/08/2025_Belong_30s-40s-Singles_The-Table_1920x1080_Website.jpg
END:VEVENT
BEGIN:VEVENT
DTSTART;TZID=America/New_York:20260720T183000
DTEND;TZID=America/New_York:20260720T183000
DTSTAMP:20260423T152638
CREATED:20251020T182358Z
LAST-MODIFIED:20260422T200616Z
UID:10002673-1784572200-1784572200@peachtreechurch.com
SUMMARY:The Table (Adult Singles —30s & 40s)
DESCRIPTION:The Table is a monthly dinner gathering designed to build community among adults in a similar life stage. Come enjoy a consistent space to slow down\, share a meal\, and form meaningful friendships with other singles.
URL:https://peachtreechurch.com/event/the-table-adult-singles-30s-40s-2/2026-07-20/
LOCATION:The Treehouse Restaurant and Pub\, 7 Kings Cir NE\, Atlanta\, GA\, 30305
CATEGORIES:Young Adults
ATTACH;FMTTYPE=image/jpeg:https://peachtreechurch.com/wp-content/uploads/2025/08/2025_Belong_30s-40s-Singles_The-Table_1920x1080_Website.jpg
END:VEVENT
BEGIN:VEVENT
DTSTART;TZID=America/New_York:20260817T183000
DTEND;TZID=America/New_York:20260817T183000
DTSTAMP:20260423T152638
CREATED:20251020T182358Z
LAST-MODIFIED:20260422T200616Z
UID:10002674-1786991400-1786991400@peachtreechurch.com
SUMMARY:The Table (Adult Singles —30s & 40s)
DESCRIPTION:The Table is a monthly dinner gathering designed to build community among adults in a similar life stage. Come enjoy a consistent space to slow down\, share a meal\, and form meaningful friendships with other singles.
URL:https://peachtreechurch.com/event/the-table-adult-singles-30s-40s-2/2026-08-17/
LOCATION:The Treehouse Restaurant and Pub\, 7 Kings Cir NE\, Atlanta\, GA\, 30305
CATEGORIES:Young Adults
ATTACH;FMTTYPE=image/jpeg:https://peachtreechurch.com/wp-content/uploads/2025/08/2025_Belong_30s-40s-Singles_The-Table_1920x1080_Website.jpg
END:VEVENT
END:VCALENDAR