BEGIN:VCALENDAR
VERSION:2.0
PRODID:-//Peachtree Church - ECPv6.15.19//NONSGML v1.0//EN
CALSCALE:GREGORIAN
METHOD:PUBLISH
X-WR-CALNAME:Peachtree Church
X-ORIGINAL-URL:https://peachtreechurch.com
X-WR-CALDESC:Events for Peachtree Church
REFRESH-INTERVAL;VALUE=DURATION:PT1H
X-Robots-Tag:noindex
X-PUBLISHED-TTL:PT1H
BEGIN:VTIMEZONE
TZID:America/New_York
BEGIN:DAYLIGHT
TZOFFSETFROM:-0500
TZOFFSETTO:-0400
TZNAME:EDT
DTSTART:20250309T070000
END:DAYLIGHT
BEGIN:STANDARD
TZOFFSETFROM:-0400
TZOFFSETTO:-0500
TZNAME:EST
DTSTART:20251102T060000
END:STANDARD
BEGIN:DAYLIGHT
TZOFFSETFROM:-0500
TZOFFSETTO:-0400
TZNAME:EDT
DTSTART:20260308T070000
END:DAYLIGHT
BEGIN:STANDARD
TZOFFSETFROM:-0400
TZOFFSETTO:-0500
TZNAME:EST
DTSTART:20261101T060000
END:STANDARD
BEGIN:DAYLIGHT
TZOFFSETFROM:-0500
TZOFFSETTO:-0400
TZNAME:EDT
DTSTART:20270314T070000
END:DAYLIGHT
BEGIN:STANDARD
TZOFFSETFROM:-0400
TZOFFSETTO:-0500
TZNAME:EST
DTSTART:20271107T060000
END:STANDARD
END:VTIMEZONE
BEGIN:VEVENT
DTSTART;TZID=America/New_York:20260501T180000
DTEND;TZID=America/New_York:20260501T200000
DTSTAMP:20260422T061749
CREATED:20260415T185511Z
LAST-MODIFIED:20260415T185511Z
UID:10002666-1777658400-1777665600@peachtreechurch.com
SUMMARY:Club 45 Friday Fun
DESCRIPTION:Come join us for our last Friday Fun of the semester! We will be playing a bunch of games in celebration for the Summer! We are looking forward to a night full of fun\, food\, fellowship\, and much more!
URL:https://peachtreechurch.com/event/club-45-friday-fun-2/
CATEGORIES:Children
ATTACH;FMTTYPE=image/jpeg:https://peachtreechurch.com/wp-content/uploads/2026/04/FridayFunThumbnail.jpg
END:VEVENT
BEGIN:VEVENT
DTSTART;TZID=America/New_York:20260503T150000
DTEND;TZID=America/New_York:20260503T150000
DTSTAMP:20260422T061749
CREATED:20260408T153916Z
LAST-MODIFIED:20260408T153916Z
UID:10002658-1777820400-1777820400@peachtreechurch.com
SUMMARY:Children's Spring Concert and Musical
DESCRIPTION:Join our children’s music ministry as we celebrate God’s faithfulness with us through our musical Rock Solid: God’s Promises for the Trail of Life. Afterwards enjoy fun and games on the Wilson green space.
URL:https://peachtreechurch.com/event/childrens-spring-concert-and-musical/
LOCATION:Sanctuary and Green Space
CATEGORIES:Children
ATTACH;FMTTYPE=image/jpeg:https://peachtreechurch.com/wp-content/uploads/2026/04/2026-Childrens-Musical-1920x1080-Website.jpg
END:VEVENT
BEGIN:VEVENT
DTSTART;TZID=America/New_York:20260509T110000
DTEND;TZID=America/New_York:20260509T110000
DTSTAMP:20260422T061749
CREATED:20260408T172325Z
LAST-MODIFIED:20260408T172325Z
UID:10002659-1778324400-1778324400@peachtreechurch.com
SUMMARY:Bless Mom with a Break: Dad and Kid Day
DESCRIPTION:Give Mom the gift she really wants this Mother’s Day weekend — a little time to relax! Dads\, grab the kids and join us for a fun-filled morning of mini golf and lunch at Puttshack near Perimeter Mall – 111 High St. Ste 210 Dunwoody GA.
URL:https://peachtreechurch.com/event/bless-mom-with-a-break-dad-and-kid-day/
LOCATION:Puttshack Dunwoody\, 111 High St. Ste 210\, Dunwoody\, GA
CATEGORIES:Children
ATTACH;FMTTYPE=image/jpeg:https://peachtreechurch.com/wp-content/uploads/2026/04/2026_Childrens_Bless-Mom-with-a-Break_Day-Kid-Day_1920x1080_Website_2-1.jpg
END:VEVENT
BEGIN:VEVENT
DTSTART;TZID=America/New_York:20260509T130000
DTEND;TZID=America/New_York:20260509T150000
DTSTAMP:20260422T061749
CREATED:20260416T215150Z
LAST-MODIFIED:20260416T215150Z
UID:10002670-1778331600-1778338800@peachtreechurch.com
SUMMARY:Third Grade Sendoff
DESCRIPTION:Calling all third graders! Join us for our Third Grade Send Off party! Come play some laser tag\, have some treats\, and have one last blast with your grade before moving up to Club 45. We can’t wait to see you there!
URL:https://peachtreechurch.com/event/third-grade-sendoff/
CATEGORIES:Children
ATTACH;FMTTYPE=image/jpeg:https://peachtreechurch.com/wp-content/uploads/2026/04/ThirdGradeSendoffThumb-scaled.jpg
END:VEVENT
BEGIN:VEVENT
DTSTART;TZID=America/New_York:20260522T100000
DTEND;TZID=America/New_York:20260522T120000
DTSTAMP:20260422T061749
CREATED:20260408T150614Z
LAST-MODIFIED:20260421T164600Z
UID:10002648-1779444000-1779451200@peachtreechurch.com
SUMMARY:Water Day at Peachtree!
DESCRIPTION:Join us for the Kona Ice Truck and water slide to celebrate the start of Summer!
URL:https://peachtreechurch.com/event/water-day-at-peachtree/
LOCATION:Peachtree Church\, 3434 Roswell Road NW\, Atlanta\, Georgia\, 30305\, United States
CATEGORIES:Children
ATTACH;FMTTYPE=image/jpeg:https://peachtreechurch.com/wp-content/uploads/2026/04/KonaIceTruck.jpg
END:VEVENT
BEGIN:VEVENT
DTSTART;TZID=America/New_York:20260601T090000
DTEND;TZID=America/New_York:20260604T120000
DTSTAMP:20260422T061749
CREATED:20260129T205606Z
LAST-MODIFIED:20260129T205606Z
UID:10002633-1780304400-1780574400@peachtreechurch.com
SUMMARY:Vacation Bible School
DESCRIPTION:Kids will be challenged to answer Jesus’ important question to his disciples\, “Who do you say that I am?” As we explore all the ways light brightens\, illuminates\, reflects\, and reveals\, kids will discover that Jesus is the light who brings hope to a dark world. We hope to see you there!
URL:https://peachtreechurch.com/event/vacation-bible-school/
CATEGORIES:Children,Families
ATTACH;FMTTYPE=image/jpeg:https://peachtreechurch.com/wp-content/uploads/2026/01/VBSThumb2026.jpg
END:VEVENT
BEGIN:VEVENT
DTSTART;TZID=America/New_York:20260610T100000
DTEND;TZID=America/New_York:20260610T120000
DTSTAMP:20260422T061749
CREATED:20260408T150726Z
LAST-MODIFIED:20260416T214642Z
UID:10002649-1781085600-1781092800@peachtreechurch.com
SUMMARY:Popsicles in the Park
DESCRIPTION:Join us for fellowship and fun at Popsicles in the Park!
URL:https://peachtreechurch.com/event/popsicles-in-the-park/
LOCATION:Ashford Park
CATEGORIES:Children
ATTACH;FMTTYPE=image/jpeg:https://peachtreechurch.com/wp-content/uploads/2026/04/PopsiclesintheParkThumb-scaled.jpg
END:VEVENT
BEGIN:VEVENT
DTSTART;TZID=America/New_York:20260617T100000
DTEND;TZID=America/New_York:20260617T120000
DTSTAMP:20260422T061749
CREATED:20260408T150821Z
LAST-MODIFIED:20260416T214759Z
UID:10002650-1781690400-1781697600@peachtreechurch.com
SUMMARY:Popsicles in the Park
DESCRIPTION:Join us for fellowship and fun at Popsicles in the Park!
URL:https://peachtreechurch.com/event/popsicles-in-the-park-2/
LOCATION:Dresden Park
CATEGORIES:Children
ATTACH;FMTTYPE=image/jpeg:https://peachtreechurch.com/wp-content/uploads/2026/04/PopsiclesintheParkThumb-scaled.jpg
END:VEVENT
BEGIN:VEVENT
DTSTART;TZID=America/New_York:20260624T100000
DTEND;TZID=America/New_York:20260624T120000
DTSTAMP:20260422T061749
CREATED:20260408T151605Z
LAST-MODIFIED:20260408T151605Z
UID:10002655-1782295200-1782302400@peachtreechurch.com
SUMMARY:Movie Morning
DESCRIPTION:Join us for a Movie Morning at The Springs Cinema and Taphouse\, Registration details to come!
URL:https://peachtreechurch.com/event/movie-morning-2/
LOCATION:The Springs Cinema and Taphouse
CATEGORIES:Children
ATTACH;FMTTYPE=image/jpeg:https://peachtreechurch.com/wp-content/uploads/2026/04/MovieMorningsThumb-scaled.jpg
END:VEVENT
BEGIN:VEVENT
DTSTART;TZID=America/New_York:20260630T130000
DTEND;TZID=America/New_York:20260630T150000
DTSTAMP:20260422T061749
CREATED:20260416T210542Z
LAST-MODIFIED:20260416T212546Z
UID:10002667-1782824400-1782831600@peachtreechurch.com
SUMMARY:Water Olympics
DESCRIPTION:Come out and splash at our water olympics event. This event is open to 1st-5th graders! We will have lots of fun water games and maybe even a slip in slide! So make sure to wear your favorite swim suit and sunscreen. Can’t wait to see you there!
URL:https://peachtreechurch.com/event/water-olympics/
CATEGORIES:Children
ATTACH;FMTTYPE=image/jpeg:https://peachtreechurch.com/wp-content/uploads/2026/04/WaterOlympicsThumb-scaled.jpg
END:VEVENT
BEGIN:VEVENT
DTSTART;TZID=America/New_York:20260701T100000
DTEND;TZID=America/New_York:20260701T120000
DTSTAMP:20260422T061749
CREATED:20260408T150904Z
LAST-MODIFIED:20260416T214612Z
UID:10002651-1782900000-1782907200@peachtreechurch.com
SUMMARY:Popsicles in the Park
DESCRIPTION:Join us for fellowship and fun at Popsicles in the Park!
URL:https://peachtreechurch.com/event/popsicles-in-the-park-3/
LOCATION:Little Nancy Creek Park
CATEGORIES:Children
ATTACH;FMTTYPE=image/jpeg:https://peachtreechurch.com/wp-content/uploads/2026/04/PopsiclesintheParkThumb-scaled.jpg
END:VEVENT
BEGIN:VEVENT
DTSTART;TZID=America/New_York:20260701T103000
DTEND;TZID=America/New_York:20260701T123000
DTSTAMP:20260422T061749
CREATED:20260415T182130Z
LAST-MODIFIED:20260415T200356Z
UID:10002660-1782901800-1782909000@peachtreechurch.com
SUMMARY:Club 45: Word on Wednesday
DESCRIPTION:Join us for Word on Wednesdays! During the month of July\, on every Wednesday we will be coming together to have small group Bible studies along with fun games and times to hang out. This is a free event! (Food will not be provided\, but we will have snacks for students.)\n\nDrop off: Club 45 Room (2124) at 10:30am\nPick up: Club 45 Room (2124) at 12:30pm\n\nPlease reach out to Schneider Alexis via email if your child will be attending! salexis@peachtreechurch.com
URL:https://peachtreechurch.com/event/club-45-word-on-wednesday/2026-07-01/
CATEGORIES:Children
ATTACH;FMTTYPE=image/jpeg:https://peachtreechurch.com/wp-content/uploads/2026/04/WordOnWednesday.jpg
END:VEVENT
BEGIN:VEVENT
DTSTART;TZID=America/New_York:20260708T100000
DTEND;TZID=America/New_York:20260708T120000
DTSTAMP:20260422T061749
CREATED:20260408T151431Z
LAST-MODIFIED:20260408T151521Z
UID:10002654-1783504800-1783512000@peachtreechurch.com
SUMMARY:Movie Morning
DESCRIPTION:Join us for a Movie Morning at The Springs Cinema and Taphouse\, Registration details to come!
URL:https://peachtreechurch.com/event/movie-morning/
LOCATION:The Springs Cinema and Taphouse
CATEGORIES:Children
ATTACH;FMTTYPE=image/jpeg:https://peachtreechurch.com/wp-content/uploads/2026/04/MovieMorningsThumb-scaled.jpg
END:VEVENT
BEGIN:VEVENT
DTSTART;TZID=America/New_York:20260708T103000
DTEND;TZID=America/New_York:20260708T123000
DTSTAMP:20260422T061749
CREATED:20260415T182130Z
LAST-MODIFIED:20260415T200356Z
UID:10002661-1783506600-1783513800@peachtreechurch.com
SUMMARY:Club 45: Word on Wednesday
DESCRIPTION:Join us for Word on Wednesdays! During the month of July\, on every Wednesday we will be coming together to have small group Bible studies along with fun games and times to hang out. This is a free event! (Food will not be provided\, but we will have snacks for students.)\n\nDrop off: Club 45 Room (2124) at 10:30am\nPick up: Club 45 Room (2124) at 12:30pm\n\nPlease reach out to Schneider Alexis via email if your child will be attending! salexis@peachtreechurch.com
URL:https://peachtreechurch.com/event/club-45-word-on-wednesday/2026-07-08/
CATEGORIES:Children
ATTACH;FMTTYPE=image/jpeg:https://peachtreechurch.com/wp-content/uploads/2026/04/WordOnWednesday.jpg
END:VEVENT
BEGIN:VEVENT
DTSTART;TZID=America/New_York:20260709T130000
DTEND;TZID=America/New_York:20260709T150000
DTSTAMP:20260422T061749
CREATED:20260416T212737Z
LAST-MODIFIED:20260416T213044Z
UID:10002668-1783602000-1783609200@peachtreechurch.com
SUMMARY:Girls Day / Boys Day
DESCRIPTION:Join us  for an epic elementary hangout! The girls will be getting creative with bracelet making\, coloring and playing games\, while the boys take over the Lodge for high-energy basketball and group games. Whether they’re ready to craft or compete\, it’s going to be an incredible day of fun and friendship. We’ll see you there!
URL:https://peachtreechurch.com/event/girls-day-boys-day/
CATEGORIES:Children
ATTACH;FMTTYPE=image/jpeg:https://peachtreechurch.com/wp-content/uploads/2026/04/GirlsDayBoysDay-1-scaled.jpg
END:VEVENT
BEGIN:VEVENT
DTSTART;TZID=America/New_York:20260713T090000
DTEND;TZID=America/New_York:20260717T130000
DTSTAMP:20260422T061749
CREATED:20250609T132516Z
LAST-MODIFIED:20260416T163805Z
UID:10001564-1783933200-1784293200@peachtreechurch.com
SUMMARY:City Plunge
DESCRIPTION:Join us for City Plunge\, our local summer mission opportunity for children’s ministry serving the Atlanta community! Our 1st-3rd graders will serve on July 13-14 from 9am-1pm each day. Club 45 will serve on July 15-16 from 9am-1pm\, with a lock-in at the church on Thursday night. Club 45 will conclude on Friday morning July 17.\n\nThis is a great opportunity to learn more about our local mission partners and have fun with friends as we serve together!
URL:https://peachtreechurch.com/event/city-plunge/
CATEGORIES:Children
ATTACH;FMTTYPE=image/jpeg:https://peachtreechurch.com/wp-content/uploads/2025/06/CityPlungeThumbnail-scaled.jpg
END:VEVENT
BEGIN:VEVENT
DTSTART;TZID=America/New_York:20260715T100000
DTEND;TZID=America/New_York:20260715T120000
DTSTAMP:20260422T061749
CREATED:20260408T150950Z
LAST-MODIFIED:20260416T214845Z
UID:10002652-1784109600-1784116800@peachtreechurch.com
SUMMARY:Popsicles in the Park
DESCRIPTION:Join us for fellowship and fun at Popsicles in the Park!
URL:https://peachtreechurch.com/event/popsicles-in-the-park-4/
LOCATION:Brookhaven Park
CATEGORIES:Children
ATTACH;FMTTYPE=image/jpeg:https://peachtreechurch.com/wp-content/uploads/2026/04/PopsiclesintheParkThumb-scaled.jpg
END:VEVENT
BEGIN:VEVENT
DTSTART;TZID=America/New_York:20260715T103000
DTEND;TZID=America/New_York:20260715T123000
DTSTAMP:20260422T061749
CREATED:20260415T182130Z
LAST-MODIFIED:20260415T200356Z
UID:10002662-1784111400-1784118600@peachtreechurch.com
SUMMARY:Club 45: Word on Wednesday
DESCRIPTION:Join us for Word on Wednesdays! During the month of July\, on every Wednesday we will be coming together to have small group Bible studies along with fun games and times to hang out. This is a free event! (Food will not be provided\, but we will have snacks for students.)\n\nDrop off: Club 45 Room (2124) at 10:30am\nPick up: Club 45 Room (2124) at 12:30pm\n\nPlease reach out to Schneider Alexis via email if your child will be attending! salexis@peachtreechurch.com
URL:https://peachtreechurch.com/event/club-45-word-on-wednesday/2026-07-15/
CATEGORIES:Children
ATTACH;FMTTYPE=image/jpeg:https://peachtreechurch.com/wp-content/uploads/2026/04/WordOnWednesday.jpg
END:VEVENT
BEGIN:VEVENT
DTSTART;TZID=America/New_York:20260722T100000
DTEND;TZID=America/New_York:20260722T120000
DTSTAMP:20260422T061749
CREATED:20260408T151044Z
LAST-MODIFIED:20260416T214915Z
UID:10002653-1784714400-1784721600@peachtreechurch.com
SUMMARY:Popsicles in the Park
DESCRIPTION:Join us for fellowship and fun at Popsicles in the Park!
URL:https://peachtreechurch.com/event/popsicles-in-the-park-5/
LOCATION:Georgetown Park
CATEGORIES:Children
ATTACH;FMTTYPE=image/jpeg:https://peachtreechurch.com/wp-content/uploads/2026/04/PopsiclesintheParkThumb-scaled.jpg
END:VEVENT
BEGIN:VEVENT
DTSTART;TZID=America/New_York:20260722T103000
DTEND;TZID=America/New_York:20260722T123000
DTSTAMP:20260422T061749
CREATED:20260415T182130Z
LAST-MODIFIED:20260415T200356Z
UID:10002663-1784716200-1784723400@peachtreechurch.com
SUMMARY:Club 45: Word on Wednesday
DESCRIPTION:Join us for Word on Wednesdays! During the month of July\, on every Wednesday we will be coming together to have small group Bible studies along with fun games and times to hang out. This is a free event! (Food will not be provided\, but we will have snacks for students.)\n\nDrop off: Club 45 Room (2124) at 10:30am\nPick up: Club 45 Room (2124) at 12:30pm\n\nPlease reach out to Schneider Alexis via email if your child will be attending! salexis@peachtreechurch.com
URL:https://peachtreechurch.com/event/club-45-word-on-wednesday/2026-07-22/
CATEGORIES:Children
ATTACH;FMTTYPE=image/jpeg:https://peachtreechurch.com/wp-content/uploads/2026/04/WordOnWednesday.jpg
END:VEVENT
BEGIN:VEVENT
DTSTART;TZID=America/New_York:20260723T130000
DTEND;TZID=America/New_York:20260723T150000
DTSTAMP:20260422T061749
CREATED:20260416T214518Z
LAST-MODIFIED:20260416T214518Z
UID:10002669-1784811600-1784818800@peachtreechurch.com
SUMMARY:Elementary Bash
DESCRIPTION:Celebrate the end of summer at our Elementary Bash! We’re saying goodbye to the season with an afternoon packed with exciting games\, group challenges\, and plenty of sweet treats to go around. It’s the perfect final summer hangout to catch up with friends before the new school year begins. See you there for some sun\, sweets\, and non-stop fun!
URL:https://peachtreechurch.com/event/elementary-bash/
CATEGORIES:Children
ATTACH;FMTTYPE=image/jpeg:https://peachtreechurch.com/wp-content/uploads/2026/04/ElementaryBash-scaled.jpg
END:VEVENT
BEGIN:VEVENT
DTSTART;TZID=America/New_York:20260729T100000
DTEND;TZID=America/New_York:20260729T120000
DTSTAMP:20260422T061749
CREATED:20260408T151752Z
LAST-MODIFIED:20260408T151752Z
UID:10002656-1785319200-1785326400@peachtreechurch.com
SUMMARY:Ready\, Set\, Summer Send-Off!
DESCRIPTION:Take a break from the heat and say goodbye to summer at our Ready\, Set\, Summer Send-Off!
URL:https://peachtreechurch.com/event/ready-set-summer-send-off/
LOCATION:Ready. Set. Fun!
CATEGORIES:Children
ATTACH;FMTTYPE=image/jpeg:https://peachtreechurch.com/wp-content/uploads/2026/04/ReadySetFunThumb-1.jpg
END:VEVENT
BEGIN:VEVENT
DTSTART;TZID=America/New_York:20260729T103000
DTEND;TZID=America/New_York:20260729T123000
DTSTAMP:20260422T061749
CREATED:20260415T182130Z
LAST-MODIFIED:20260415T200356Z
UID:10002664-1785321000-1785328200@peachtreechurch.com
SUMMARY:Club 45: Word on Wednesday
DESCRIPTION:Join us for Word on Wednesdays! During the month of July\, on every Wednesday we will be coming together to have small group Bible studies along with fun games and times to hang out. This is a free event! (Food will not be provided\, but we will have snacks for students.)\n\nDrop off: Club 45 Room (2124) at 10:30am\nPick up: Club 45 Room (2124) at 12:30pm\n\nPlease reach out to Schneider Alexis via email if your child will be attending! salexis@peachtreechurch.com
URL:https://peachtreechurch.com/event/club-45-word-on-wednesday/2026-07-29/
CATEGORIES:Children
ATTACH;FMTTYPE=image/jpeg:https://peachtreechurch.com/wp-content/uploads/2026/04/WordOnWednesday.jpg
END:VEVENT
END:VCALENDAR